BEGIN:VCALENDAR
VERSION:2.0
PRODID:TU Chemnitz
METHOD:PUBLISH
X-WR-CALNAME:Veranstaltungen der TU Chemnitz
X-WR-TIMEZONE:Europe/Berlin
BEGIN:VEVENT
CLASS:PUBLIC
DTSTART;TZID="Europe/Berlin":20100713T203000
DTEND;TZID="Europe/Berlin":20100714T010000
LOCATION:Club der Kulturen\, Thüringer Weg 3
SUMMARY:FACES OF JAZZ XXXI - Konzert und JAM-Session (TU Chemnitz)
DESCRIPTION:Ab 21 Uhr Konzert mit dem Dresdner Jazz-Quartett "Raccoon Conspiracy" ( www.myspace.com/beefsimon )\, ab 22 Uhr JAM-Session. Instrumente nicht vergessen! "Kommen! Hören! Spielen!?"\, Earl Mobyley\nRaccoon Conspiracy\nThilo Bocklisch\, 32133\, thbo@hrz.tu-chemnitz.de
ORGANIZER:MAILTO:thilo.bocklisch@e-technik.tu-chemnitz.de
UID:12527@www.tu-chemnitz.de
CREATED:20100706T152500Z
DTSTAMP:20210802T193120Z
END:VEVENT
END:VCALENDAR
