BEGIN:VCALENDAR
VERSION:2.0
PRODID:TU Chemnitz
METHOD:PUBLISH
X-WR-CALNAME:Veranstaltungen der TU Chemnitz
X-WR-TIMEZONE:Europe/Berlin
BEGIN:VEVENT
CLASS:PUBLIC
DTSTART;TZID="Europe/Berlin":20001116T160000
DTEND;TZID="Europe/Berlin":20001116T180000
LOCATION:Uni-Teil 1: Str. der Nationen 62\, Chemnitz (Böttcher-Bau)
SUMMARY:Optische Experimente mit einzelnen Molekülen (Fakultät für Naturwissenschaften\, Institut für Chemie gemeinsam mit dem Ortsvorstand der GDCh)
DESCRIPTION:Prof. Dr. C. Bräuchle\, Univ. München\nProf. Dr. W. Thiel\, Zimmer 163\, Fon 531 1571\, Fax 531 1835 Email: werner.thiel@chemie.tu-chemnitz.de
ORGANIZER:MAILTO:erah@hrz.tu-chemnitz.de
UID:1252@www.tu-chemnitz.de
CREATED:20000811T100600Z
DTSTAMP:20210802T202846Z
END:VEVENT
END:VCALENDAR
