BEGIN:VCALENDAR
VERSION:2.0
PRODID:TU Chemnitz
METHOD:PUBLISH
X-WR-CALNAME:Veranstaltungen der TU Chemnitz
X-WR-TIMEZONE:Europe/Berlin
BEGIN:VEVENT
CLASS:PUBLIC
DTSTART;TZID="Europe/Berlin":20001012T160000
DTEND;TZID="Europe/Berlin":20001012T180000
LOCATION:Uni-Teil 1: Str. der Nationen 62\, Chemnitz (Böttcher-Bau)
SUMMARY:Biologische Herausforderungen für die Chemie: die Modellierung von Nitrogenasen und Metall-Schwefel-Enzymen (Fakultät für Naturwissenschaften\, Institut für Chemie gemeinsam mit dem Ortsvorstand der GDCh)
DESCRIPTION:Prof. Dr. D. Sellmann\, Univ. Erlangen-Nürnberg\nProf. Dr. W. Thiel\, Zimmer 163\, Fon 531 1571\, Fax 531 1835\, werner.thiel@chemie.tu-chemnitz.de
ORGANIZER:MAILTO:erah@hrz.tu-chemnitz.de
UID:1250@www.tu-chemnitz.de
CREATED:20000811T095700Z
DTSTAMP:20210802T202858Z
END:VEVENT
END:VCALENDAR
