BEGIN:VCALENDAR
VERSION:2.0
PRODID:TU Chemnitz
METHOD:PUBLISH
X-WR-CALNAME:Veranstaltungen der TU Chemnitz
X-WR-TIMEZONE:Europe/Berlin
BEGIN:VEVENT
CLASS:PUBLIC
DTSTART;TZID="Europe/Berlin":20100708T200000
DTEND;TZID="Europe/Berlin":20100708T235900
LOCATION:Reichenhainer Str. 55\, Mensa\, TaC
SUMMARY:hörbar - Livekonzert mit Deine Jugend (Studentenrat\, Referat Kultur)
DESCRIPTION:Elektronische Tanzmusik mit der Energie von Punk und der Catchyness von Pop.  Als Support mit dabei: CAPTAIN CAPA.Karten-VVK: Mensa\, StuRa\, Universitas\, CopyShop Kettler\, TaC\nkultur@stura.tu-chemnitz.de
ORGANIZER:MAILTO:karl.meissner@s2008.tu-chemnitz.de
UID:12496@www.tu-chemnitz.de
CREATED:20100623T160200Z
DTSTAMP:20210802T193116Z
END:VEVENT
END:VCALENDAR
