BEGIN:VCALENDAR
VERSION:2.0
PRODID:TU Chemnitz
METHOD:PUBLISH
X-WR-CALNAME:Veranstaltungen der TU Chemnitz
X-WR-TIMEZONE:Europe/Berlin
BEGIN:VEVENT
CLASS:PUBLIC
DTSTART;TZID="Europe/Berlin":20100611T153000
DTEND;TZID="Europe/Berlin":20100711T233000
LOCATION:Vettersstr. 52/54\, Chemnitz (Studentenwohnheim)
SUMMARY:Fußball WM Kneipe (windKanal e.V.)
DESCRIPTION:Jedes WM-Spiel auf Leinwand\, coole Getränke\, kühle Leute.\nwindkanal@tu-chemnitz.de
ORGANIZER:MAILTO:frederick.preckwinkel@s2003.tu-chemnitz.de
UID:12474@www.tu-chemnitz.de
CREATED:20100612T140900Z
DTSTAMP:20210802T193132Z
END:VEVENT
END:VCALENDAR
