BEGIN:VCALENDAR
VERSION:2.0
PRODID:TU Chemnitz
METHOD:PUBLISH
X-WR-CALNAME:Veranstaltungen der TU Chemnitz
X-WR-TIMEZONE:Europe/Berlin
BEGIN:VEVENT
CLASS:PUBLIC
DTSTART;TZID="Europe/Berlin":20100809T173000
DTEND;TZID="Europe/Berlin":20100809T180000
LOCATION:Studentenwerk Chemnitz-Zwickau\, Thüringer Weg 3\, Raum 207
SUMMARY:"Exma und nun? Safety Check für Absolventen." - Info-Abend für Studierende in höheren Semestern und Absolventen (Studentenwerk Chemnitz-Zwickau)
DESCRIPTION:Für Snacks und Getränke ist gesorgt.\nAnmeldung bitte an info@swcz.de
ORGANIZER:MAILTO:stephanie.kraemer@verwaltung.tu-chemnitz.de
UID:12462@www.tu-chemnitz.de
CREATED:20100610T084400Z
DTSTAMP:20210802T193106Z
END:VEVENT
END:VCALENDAR
