BEGIN:VCALENDAR
VERSION:2.0
PRODID:TU Chemnitz
METHOD:PUBLISH
X-WR-CALNAME:Veranstaltungen der TU Chemnitz
X-WR-TIMEZONE:Europe/Berlin
BEGIN:VEVENT
CLASS:PUBLIC
DTSTART;TZID="Europe/Berlin":20100630T200000
DTEND;TZID="Europe/Berlin":20100630T220000
LOCATION:Reichenhainer Str. 55\, Chemnitz (Mensa)
SUMMARY:FEINKOST – Kleinkunst am Campus: "Narrenspiele 2010" - Die Kunst zu rechten Zeit verrückt zu sein  (KleinKunstTheater FATA MORGANA und Studentenwerk Chemnitz-Zwickau)
DESCRIPTION:Kabarett zur Lage der Nation mit Sabine Kühnrich & Ludwig Streng\, Tickets: 10 €/ ermäßigt 5 €\, Einlass ab 19:00 Uhr\nKartenreservierung: Tel. 0371 5628-170\, info@swcz.de
ORGANIZER:MAILTO:stephanie.kraemer@verwaltung.tu-chemnitz.de
UID:12460@www.tu-chemnitz.de
CREATED:20100610T084000Z
DTSTAMP:20210802T193135Z
END:VEVENT
END:VCALENDAR
