BEGIN:VCALENDAR
VERSION:2.0
PRODID:TU Chemnitz
METHOD:PUBLISH
X-WR-CALNAME:Veranstaltungen der TU Chemnitz
X-WR-TIMEZONE:Europe/Berlin
BEGIN:VEVENT
CLASS:PUBLIC
DTSTART;TZID="Europe/Berlin":20100616T153000
DTEND;TZID="Europe/Berlin":20100616T153000
LOCATION:Reichenhainer Str. 90\, Chemnitz (Zentr. Hörsaal- und Seminargebäude)
SUMMARY:Physikalisches Kolloquium (Fakultät für Naturwissenschaften\, Institut für Physik)
DESCRIPTION:Thema: "Nie nutzen wir unser Gehirn ein zweites mal wie es ist"\nProf. Dr. Robert Turner (Max Planck Institut Leipzig)\nProf. Dr. Peter Häussler
ORGANIZER:MAILTO:michael.ludwig@physik.tu-chemnitz.de
UID:12457@www.tu-chemnitz.de
CREATED:20100609T093700Z
DTSTAMP:20210802T193128Z
END:VEVENT
END:VCALENDAR
