BEGIN:VCALENDAR
VERSION:2.0
PRODID:TU Chemnitz
METHOD:PUBLISH
X-WR-CALNAME:Veranstaltungen der TU Chemnitz
X-WR-TIMEZONE:Europe/Berlin
BEGIN:VEVENT
CLASS:PUBLIC
DTSTART;TZID="Europe/Berlin":20100630T113000
DTEND;TZID="Europe/Berlin":20100630T130000
LOCATION:Reichenhainer Str. 90\, Chemnitz (Zentr. Hörsaal- und Seminargebäude)
SUMMARY:Auslandsstudium in Südkorea (TU Chemnitz\, Internationales Universitätszentrum)
DESCRIPTION:Informationsveranstaltunng zu Studienmöglichkeiten in Incheon\, Südkorea\nMichael Menke\, University of Incheon\nAnnett Müller\, (0371) 531-37922\, annett.mueller@verwaltung.tu-chemnitz.de
ORGANIZER:MAILTO:annett.mueller@verwaltung.tu-chemnitz.de
UID:12456@www.tu-chemnitz.de
CREATED:20100608T135800Z
DTSTAMP:20210802T193143Z
END:VEVENT
END:VCALENDAR
