BEGIN:VCALENDAR
VERSION:2.0
PRODID:TU Chemnitz
METHOD:PUBLISH
X-WR-CALNAME:Veranstaltungen der TU Chemnitz
X-WR-TIMEZONE:Europe/Berlin
BEGIN:VEVENT
CLASS:PUBLIC
DTSTART;TZID="Europe/Berlin":20100615T150000
DTEND;TZID="Europe/Berlin":20100615T163000
LOCATION:DAStietz\, Stadtbibliothek
SUMMARY:English Literature Reading: Jan Kemp "Dante's Heaven" (Philosophische Fakultät\, Anglistische Literaturwissenschaft\, Prof. Sandten)
DESCRIPTION:Jan Kemp's poems bear the evidence of her cosmopolitan career. Her latest collection\, Dante's Heaven (2006)\, engages with familiar New Zealand themes of personal and national identity in an imaginative new way.\nJan Kemp\nProf. Sandten\, cecile.sandten@phil.tu-chemnitz.de
ORGANIZER:MAILTO:heike.zenner@phil.tu-chemnitz.de
UID:12454@www.tu-chemnitz.de
CREATED:20100608T091200Z
DTSTAMP:20210802T193132Z
END:VEVENT
END:VCALENDAR
