BEGIN:VCALENDAR
VERSION:2.0
PRODID:TU Chemnitz
METHOD:PUBLISH
X-WR-CALNAME:Veranstaltungen der TU Chemnitz
X-WR-TIMEZONE:Europe/Berlin
BEGIN:VEVENT
CLASS:PUBLIC
DTSTART;TZID="Europe/Berlin":20100615T190000
DTEND;TZID="Europe/Berlin":20100615T203000
LOCATION:Reichenhainer Str. 90\, Chemnitz (Zentr. Hörsaal- und Seminargebäude)
SUMMARY:Risikoreiche Sicherheitskulturen in der technischen Kommunikation (Philosophische Fakultät\, Interkulturelle Kommunikation)
DESCRIPTION:Dr. Sonja Ruda (TU Chemnitz)\nArne Weidemann (arne.weidemann@phil.tu-chemnitz.de)
ORGANIZER:MAILTO:corina.markert@phil.tu-chemnitz.de
UID:12453@www.tu-chemnitz.de
CREATED:20100607T140300Z
DTSTAMP:20210802T193127Z
END:VEVENT
END:VCALENDAR
