BEGIN:VCALENDAR
VERSION:2.0
PRODID:TU Chemnitz
METHOD:PUBLISH
X-WR-CALNAME:Veranstaltungen der TU Chemnitz
X-WR-TIMEZONE:Europe/Berlin
BEGIN:VEVENT
CLASS:PUBLIC
DTSTART;TZID="Europe/Berlin":20001004T090000
DTEND;TZID="Europe/Berlin":20001006T170000
LOCATION:Uni-Teil 1: Str. der Nationen 62\, Chemnitz (Böttcher-Bau)
SUMMARY:Orientierungswoche der Fachschaft Informatik (Fakultät für Informatik)
DESCRIPTION:Orientierungswoche für die Erstsemestler Informatik. Weitere Informationen auf der Webseite.\nfsrif@tu-chemnitz.de
ORGANIZER:MAILTO:sat@informatik.tu-chemnitz.de
UID:1245@www.tu-chemnitz.de
CREATED:20000727T171500Z
DTSTAMP:20210802T202858Z
END:VEVENT
END:VCALENDAR
