BEGIN:VCALENDAR
VERSION:2.0
PRODID:TU Chemnitz
METHOD:PUBLISH
X-WR-CALNAME:Veranstaltungen der TU Chemnitz
X-WR-TIMEZONE:Europe/Berlin
BEGIN:VEVENT
CLASS:PUBLIC
DTSTART;TZID="Europe/Berlin":20100607T200000
DTEND;TZID="Europe/Berlin":20100608T030000
LOCATION:Club der Kulturen
SUMMARY:Orientalische Nacht "1001 Nights" (TU Chemnitz\, Internationales Universitätszentrum)
DESCRIPTION:Marhaba!! Die Orientalischen Studenten an der TU-Chemnitz laden euch herzlich ein\, die zauberhafte orientalische Welt zu erleben. Euch erwarten leckere orientalische Spezialitäten\, Bauchtänzerinnen und viele andere Überraschungen.\nhttp://www.tu-chemnitz.de/stud/club/kulturen/
ORGANIZER:MAILTO:patenprogramm@tu-chemnitz.de
UID:12439@www.tu-chemnitz.de
CREATED:20100531T144800Z
DTSTAMP:20210802T193131Z
END:VEVENT
END:VCALENDAR
