BEGIN:VCALENDAR
VERSION:2.0
PRODID:TU Chemnitz
METHOD:PUBLISH
X-WR-CALNAME:Veranstaltungen der TU Chemnitz
X-WR-TIMEZONE:Europe/Berlin
BEGIN:VEVENT
CLASS:PUBLIC
DTSTART;TZID="Europe/Berlin":20100624T210000
DTEND;TZID="Europe/Berlin":20100624T230000
LOCATION:Kino\, Reichenhainer Str. 35/37\, Keller
SUMMARY:[Campuskino * "mittendrin"] The Exploding Girl (filmclub »mittendrin«)
DESCRIPTION:Girl meets boy als würde man es das erste Mal erleben: fluffig\, unaufgeregt und doch viel zu schnell wieder vorbei.\nfilmclub@tu-chemnitz.de
ORGANIZER:MAILTO:robert.gerstenberger@s2004.tu-chemnitz.de
UID:12428@www.tu-chemnitz.de
CREATED:20100530T130900Z
DTSTAMP:20210802T193126Z
END:VEVENT
END:VCALENDAR
