BEGIN:VCALENDAR
VERSION:2.0
PRODID:TU Chemnitz
METHOD:PUBLISH
X-WR-CALNAME:Veranstaltungen der TU Chemnitz
X-WR-TIMEZONE:Europe/Berlin
BEGIN:VEVENT
CLASS:PUBLIC
DTSTART;TZID="Europe/Berlin":20100701T100000
DTEND;TZID="Europe/Berlin":20100701T120000
LOCATION:Bahnhofstr. 8\, Chemnitz (Int. Begegnungs- und Informationszentrum)
SUMMARY:Informationsveranstaltung "Die Marie-Curie-Maßnahmen der EU – Individual Fellowships" (TU Chemnitz)
DESCRIPTION:Die Veranstaltung richtet sich an Graduierte\, Doktoranden\, Post Docs\, Habilitanden\, die im spezifischen Programm "Menschen" im 7. EU-Forschungsrahmenprogramm eine Antragstellung planen. Um Anmeldung wird gebeten.\nPatricia Fuchs\, Kooperationsstelle EU der Wissenschaftsorganisationen (KOWI)\nesther.smykalla@verwaltung.tu-chemnitz.de
ORGANIZER:MAILTO:esther.smykalla@verwaltung.tu-chemnitz.de
UID:12411@www.tu-chemnitz.de
CREATED:20100526T165900Z
DTSTAMP:20210802T193118Z
END:VEVENT
END:VCALENDAR
