BEGIN:VCALENDAR
VERSION:2.0
PRODID:TU Chemnitz
METHOD:PUBLISH
X-WR-CALNAME:Veranstaltungen der TU Chemnitz
X-WR-TIMEZONE:Europe/Berlin
BEGIN:VEVENT
CLASS:PUBLIC
DTSTART;TZID="Europe/Berlin":19981027T130000
DTEND;TZID="Europe/Berlin":19981027T143000
LOCATION:Uni-Teil 3: Reichenhainer Str. 70\, Chemnitz (Weinhold-Bau)
SUMMARY:Der Supraleitende magnetische Energiespeicher (Fakultät für Elektrotechnik und Informationstechnik\, Elektrotechnisches Institut)
DESCRIPTION:Dr. Wolfgang Nick\, Siemens Erlangen\nMarcus Ziegler\, Tel.:0371/531-3346
ORGANIZER:MAILTO:marcus.ziegler@e-technik.tu-chemnitz.de
UID:124@www.tu-chemnitz.de
CREATED:19981016T121200Z
DTSTAMP:20210802T203602Z
END:VEVENT
END:VCALENDAR
