BEGIN:VCALENDAR
VERSION:2.0
PRODID:TU Chemnitz
METHOD:PUBLISH
X-WR-CALNAME:Veranstaltungen der TU Chemnitz
X-WR-TIMEZONE:Europe/Berlin
BEGIN:VEVENT
CLASS:PUBLIC
DTSTART;TZID="Europe/Berlin":20100610T160000
DTEND;TZID="Europe/Berlin":20100610T173000
LOCATION:Reichenhainer Str. 70\, Chemnitz (Rühlmann-Bau)
SUMMARY:Chemnitzer Mathematisches Colloquium (Fakultät für Mathematik)
DESCRIPTION:Herr Dr. Hendrik Vogt\, TU Dresden\nhttp://www.tu-chemnitz.de/mathematik/termine/
ORGANIZER:MAILTO:margit.matt@mathematik.tu-chemnitz.de
UID:12397@www.tu-chemnitz.de
CREATED:20100521T132000Z
DTSTAMP:20210802T193136Z
END:VEVENT
END:VCALENDAR
