BEGIN:VCALENDAR
VERSION:2.0
PRODID:TU Chemnitz
METHOD:PUBLISH
X-WR-CALNAME:Veranstaltungen der TU Chemnitz
X-WR-TIMEZONE:Europe/Berlin
BEGIN:VEVENT
CLASS:PUBLIC
DTSTART;TZID="Europe/Berlin":20100609T190000
DTEND;TZID="Europe/Berlin":20100609T203000
LOCATION:Reichenhainer Str. 90\, Chemnitz (Zentr. Hörsaal- und Seminargebäude)
SUMMARY:Have the 'Culture Wars' Come to an End? Ideological Polarization in the US (Philosophische Fakultät\, Prof. Dr. Klaus Stolz\, Britische und Amerikanische Kultur- und Länderstudien)
DESCRIPTION:Der Vortrag findet in Englischer Sprache statt. Er ist offen für alle Studierenden der TU Chemnitz\nDr. Jürgen Petersen (Universität Frankfurt)\nProf. Dr. Klaus Stolz\, 37297\, klaus.stolz@phil.tu-chemnitz.de
ORGANIZER:MAILTO:klaus.stolz@phil.tu-chemnitz.de
UID:12390@www.tu-chemnitz.de
CREATED:20100519T114800Z
DTSTAMP:20210802T193137Z
END:VEVENT
END:VCALENDAR
