BEGIN:VCALENDAR
VERSION:2.0
PRODID:TU Chemnitz
METHOD:PUBLISH
X-WR-CALNAME:Veranstaltungen der TU Chemnitz
X-WR-TIMEZONE:Europe/Berlin
BEGIN:VEVENT
CLASS:PUBLIC
DTSTART;TZID="Europe/Berlin":20001009T100000
DTEND;TZID="Europe/Berlin":20001010T173000
LOCATION:Uni-Teil 3: Reichenhainer Str. 70\, Chemnitz (Zentr. Hörsaal- und Seminargebäude)
SUMMARY:4. Tagung der Deutschen Sektion der Europäischen Mathematikerinnen Vereinigung (EWM) in Chemnitz (EWM und Fakultät für Mathematik)
DESCRIPTION:HSD Dr. Sybille Handrock\, Koordinatorin der Deutschen Sektion der EWM\, email: handrock@mathematik.tu-chemnitz.de
ORGANIZER:MAILTO:mma@hrz.tu-chemnitz.de
UID:1238@www.tu-chemnitz.de
CREATED:20000711T174300Z
DTSTAMP:20210802T202903Z
END:VEVENT
END:VCALENDAR
