BEGIN:VCALENDAR
VERSION:2.0
PRODID:TU Chemnitz
METHOD:PUBLISH
X-WR-CALNAME:Veranstaltungen der TU Chemnitz
X-WR-TIMEZONE:Europe/Berlin
BEGIN:VEVENT
CLASS:PUBLIC
DTSTART;TZID="Europe/Berlin":20100531T110000
DTEND;TZID="Europe/Berlin":20100531T110000
LOCATION:Reichenhainer Str. 90\, Chemnitz (Zentr. Hörsaal- und Seminargebäude)
SUMMARY:Habilitationsverfahren - Probevorlesung (Fakultät für Naturwissenschaften)
DESCRIPTION:Thema: "Wellenausbreitung"\nDr. Thomas Welzel\nProf. Dr. Karl Heinz Hoffmann
ORGANIZER:MAILTO:ivonne.schubert@physik.tu-chemnitz.de
UID:12374@www.tu-chemnitz.de
CREATED:20100510T101100Z
DTSTAMP:20210802T193230Z
END:VEVENT
END:VCALENDAR
