BEGIN:VCALENDAR
VERSION:2.0
PRODID:TU Chemnitz
METHOD:PUBLISH
X-WR-CALNAME:Veranstaltungen der TU Chemnitz
X-WR-TIMEZONE:Europe/Berlin
BEGIN:VEVENT
CLASS:PUBLIC
DTSTART;TZID="Europe/Berlin":20100511T200000
DTEND;TZID="Europe/Berlin":20100511T230000
LOCATION:Reichenhainer Str. 55\, Chemnitz (Mensa)
SUMMARY:"lesbar" - Markus Henrik liest "Copy Man" (Studentenrat\, Referat Kultur)
DESCRIPTION:Markus Henrik liest aus seinem Debüt-Roman „Copy Man“\, mit dem er gewohnt humorvoll\, kritisch und charmant seine Stellung als Protestführer der „Generation Praktikum“ behauptet.Musikalische Unterstützung leisten Solche aus Chemnitz.  Eintritt frei.\nMarkus Henrik\nEric Stahnke\, staer@tu-chemnitz.eu
ORGANIZER:MAILTO:thomas.holzaepfel@s2007.tu-chemnitz.de
UID:12371@www.tu-chemnitz.de
CREATED:20100506T181100Z
DTSTAMP:20210802T193224Z
END:VEVENT
END:VCALENDAR
