BEGIN:VCALENDAR
VERSION:2.0
PRODID:TU Chemnitz
METHOD:PUBLISH
X-WR-CALNAME:Veranstaltungen der TU Chemnitz
X-WR-TIMEZONE:Europe/Berlin
BEGIN:VEVENT
CLASS:PUBLIC
DTSTART;TZID="Europe/Berlin":20100519T090000
DTEND;TZID="Europe/Berlin":20100519T153000
LOCATION:Reichenhainer Str. 90\, Chemnitz (Zentr. Hörsaal- und Seminargebäude)
SUMMARY:ERASMUS-Tag: Studieren in Europa! (TU Chemnitz\, Internationales Universitätszentrum)
DESCRIPTION:Präsentation zahlreicher Informationsmaterialien zu Partneruniversitäten der TU Chemnitz\, Auslandssemester und Auslandspraktikum (zusätzlich auch in einer gesonderten Informationsveranstaltung von 11:30-13:00 Uhr im Raum NK004 des NHG).\nOliver Sachs (IUZ)\, Katja Lehmann (LEONARDO-Büro Part Sachsen)\nOliver Sachs\, (0371) 531 37972\, oliver.sachs@iuz.tu-chemnitz.de
ORGANIZER:MAILTO:oliver.sachs@iuz.tu-chemnitz.de
UID:12370@www.tu-chemnitz.de
CREATED:20100506T100600Z
DTSTAMP:20210802T193232Z
END:VEVENT
END:VCALENDAR
