BEGIN:VCALENDAR
VERSION:2.0
PRODID:TU Chemnitz
METHOD:PUBLISH
X-WR-CALNAME:Veranstaltungen der TU Chemnitz
X-WR-TIMEZONE:Europe/Berlin
BEGIN:VEVENT
CLASS:PUBLIC
DTSTART;TZID="Europe/Berlin":20100428T140000
DTEND;TZID="Europe/Berlin":20100428T160000
LOCATION:Str. der Nationen 62\, Chemnitz (Böttcher-Bau)
SUMMARY:Informatik-Kolloquium (Fakultät für Informatik)
DESCRIPTION:Vortrag zum Thema: Computer Interface für Sehbeschädigte -  Herausforderungen und Lösungen\nAssoc. Prof. Dr. Eng. Stanislav Simeonov\, Freie Universität Burgas\, Bulgarien\ndekanat@informatik.tu-chemnitz.de
ORGANIZER:MAILTO:ulrike.luthe@informatik.tu-chemnitz.de
UID:12323@www.tu-chemnitz.de
CREATED:20100423T101400Z
DTSTAMP:20210802T193316Z
END:VEVENT
END:VCALENDAR
