BEGIN:VCALENDAR
VERSION:2.0
PRODID:TU Chemnitz
METHOD:PUBLISH
X-WR-CALNAME:Veranstaltungen der TU Chemnitz
X-WR-TIMEZONE:Europe/Berlin
BEGIN:VEVENT
CLASS:PUBLIC
DTSTART;TZID="Europe/Berlin":20101004T090000
DTEND;TZID="Europe/Berlin":20101005T170000
LOCATION:N.N.
SUMMARY:Lern- und Arbeitstechniken (TU Chemnitz\, Career Service)
DESCRIPTION:Mit Spaß und Freude lernen?! Eine wichtige Voraussetzung dafür ist neben einer positiven Einstellung zum Lernen auch das Anwenden der richtigen Technik.\nCareer Service - Trainerin: Doreen Voigt\nRonald Herzog\, Tel. (0371) 531 38447
ORGANIZER:MAILTO:ronald.herzog@hrz.tu-chemnitz.de
UID:12275@www.tu-chemnitz.de
CREATED:20100409T110200Z
DTSTAMP:20210802T193025Z
END:VEVENT
END:VCALENDAR
