BEGIN:VCALENDAR
VERSION:2.0
PRODID:TU Chemnitz
METHOD:PUBLISH
X-WR-CALNAME:Veranstaltungen der TU Chemnitz
X-WR-TIMEZONE:Europe/Berlin
BEGIN:VEVENT
CLASS:PUBLIC
DTSTART;TZID="Europe/Berlin":20100611T080000
DTEND;TZID="Europe/Berlin":20100612T160000
LOCATION:N.N.
SUMMARY:Präsentationstraining (TU Chemnitz\, Career Service)
DESCRIPTION:Komplexe Inhalte sicher und verständlich präsentieren zu können\, ist eine Grundvoraussetzung für den Erfolg in Studium und Beruf.\nCareer Service - Trainer: Martin Kreusch\nRonald Herzog\, Tel. (0371) 531 38447
ORGANIZER:MAILTO:ronald.herzog@hrz.tu-chemnitz.de
UID:12263@www.tu-chemnitz.de
CREATED:20100409T102000Z
DTSTAMP:20210802T193136Z
END:VEVENT
END:VCALENDAR
