BEGIN:VCALENDAR
VERSION:2.0
PRODID:TU Chemnitz
METHOD:PUBLISH
X-WR-CALNAME:Veranstaltungen der TU Chemnitz
X-WR-TIMEZONE:Europe/Berlin
BEGIN:VEVENT
CLASS:PUBLIC
DTSTART;TZID="Europe/Berlin":20100604T090000
DTEND;TZID="Europe/Berlin":20100605T170000
LOCATION:N.N.
SUMMARY:Yes\, we can! PR und Journalismus für Geisteswissenschaftler (TU Chemnitz\, Career Service)
DESCRIPTION:Ein souveräner Umgang mit Medien\, ihren Vertretern und Nutzern eröffnet gerade Geisteswissenschaftlern neue berufliche Perspektiven.\nCareer Service - Trainer: Christian Stadali\nRonald Herzog\, Tel. (0371) 531 38447
ORGANIZER:MAILTO:ronald.herzog@hrz.tu-chemnitz.de
UID:12261@www.tu-chemnitz.de
CREATED:20100409T101300Z
DTSTAMP:20210802T193133Z
END:VEVENT
END:VCALENDAR
