BEGIN:VCALENDAR
VERSION:2.0
PRODID:TU Chemnitz
METHOD:PUBLISH
X-WR-CALNAME:Veranstaltungen der TU Chemnitz
X-WR-TIMEZONE:Europe/Berlin
BEGIN:VEVENT
CLASS:PUBLIC
DTSTART;TZID="Europe/Berlin":20000722T210000
DTEND;TZID="Europe/Berlin":20000723T030000
LOCATION:Thüringer Weg 3 - Kompass Mensa
SUMMARY:Depeche Mode Party (Studentenclub windKanal e.V.)
DESCRIPTION:Depeche Mode Party mit Live-Band\, Videoleinwand und\nvielem mehr!\nCocktail-Bar der Bit Boutique!!\n\nEinlaß: 21 Uhr\nwindkanal@tu-chemnitz.de
ORGANIZER:MAILTO:windkanal@tu-chemnitz.de
UID:1226@www.tu-chemnitz.de
CREATED:20000628T142800Z
DTSTAMP:20210802T202924Z
END:VEVENT
END:VCALENDAR
