BEGIN:VCALENDAR
VERSION:2.0
PRODID:TU Chemnitz
METHOD:PUBLISH
X-WR-CALNAME:Veranstaltungen der TU Chemnitz
X-WR-TIMEZONE:Europe/Berlin
BEGIN:VEVENT
CLASS:PUBLIC
DTSTART;TZID="Europe/Berlin":20100427T173000
DTEND;TZID="Europe/Berlin":20100427T190000
LOCATION:Str. der Nationen 62\, Chemnitz (Altes Heizhaus)
SUMMARY:UNIX-Stammtisch in Sachsen (Universitätsrechenzentrum\, in Kooperation mit der GI-Regionalgruppe Chemnitz)
DESCRIPTION:Thema:  Computer-Angriffe von innen richtig abwehren\nPhilipp Seidel\, Fak. für Informatik\, TU Chemnitz\nM. Ehrig\, Tel. 531 31525
ORGANIZER:MAILTO:ingrid.muschner@hrz.tu-chemnitz.de
UID:12243@www.tu-chemnitz.de
CREATED:20100406T172800Z
DTSTAMP:20210802T193317Z
END:VEVENT
END:VCALENDAR
