BEGIN:VCALENDAR
VERSION:2.0
PRODID:TU Chemnitz
METHOD:PUBLISH
X-WR-CALNAME:Veranstaltungen der TU Chemnitz
X-WR-TIMEZONE:Europe/Berlin
BEGIN:VEVENT
CLASS:PUBLIC
DTSTART;TZID="Europe/Berlin":20100415T210000
DTEND;TZID="Europe/Berlin":20100415T230000
LOCATION:Kino\, Reichenhainer Str. 35/37\, Keller
SUMMARY:[Campuskino * "mittendrin"] Bad Lieutenant - Cop ohne Gewissen (filmclub »mittendrin«)
DESCRIPTION:Er liebt eine Edelhure\, raucht Crack und bekommt einen Orden: In Herzogs Radikal-Neufassung gibt Cage den gefallenen Bullen mit tragikomischer Grandezza. Gott ist tot? Kein Grund\, Trübsal zu blasen.\nfilmclub@tu-chemnitz.de
ORGANIZER:MAILTO:robert.gerstenberger@s2004.tu-chemnitz.de
UID:12237@www.tu-chemnitz.de
CREATED:20100406T111200Z
DTSTAMP:20210802T193318Z
END:VEVENT
END:VCALENDAR
