BEGIN:VCALENDAR
VERSION:2.0
PRODID:TU Chemnitz
METHOD:PUBLISH
X-WR-CALNAME:Veranstaltungen der TU Chemnitz
X-WR-TIMEZONE:Europe/Berlin
BEGIN:VEVENT
CLASS:PUBLIC
DTSTART;TZID="Europe/Berlin":20100630T173000
DTEND;TZID="Europe/Berlin":20100630T190000
LOCATION:Reichenhainer Str. 70\, Chemnitz (Rühlmann-Bau)
SUMMARY:Der erste Arbeitsvertrag (Agentur für Arbeit Chemnitz/Hochschulteam)
DESCRIPTION:Grundbegriffe des Arbeitsrechtes\, Abschluss des ersten Arbeitsvertrages\, befristete Verträge\, Praktika\, Probezeit etc.\n Frau Stevens\, Fachanwältin für Arbeitsrecht\nChemnitz.Hochschulteam@arbeitsagentur.de\, Tel. 0371/567-2240 
ORGANIZER:MAILTO:evelin.haeusler@verwaltung.tu-chemnitz.de
UID:12216@www.tu-chemnitz.de
CREATED:20100329T090000Z
DTSTAMP:20210802T193140Z
END:VEVENT
END:VCALENDAR
