BEGIN:VCALENDAR
VERSION:2.0
PRODID:TU Chemnitz
METHOD:PUBLISH
X-WR-CALNAME:Veranstaltungen der TU Chemnitz
X-WR-TIMEZONE:Europe/Berlin
BEGIN:VEVENT
CLASS:PUBLIC
DTSTART;TZID="Europe/Berlin":20100428T100000
DTEND;TZID="Europe/Berlin":20100428T170000
LOCATION:Agentur für Arbeit Chemnitz
SUMMARY:Assessment-Center-Training (Agentur für Arbeit Chemnitz/Hochschulteam )
DESCRIPTION:Generalprobe für dieses Personalauswahlverfahren\, mit Möglichkeit der individuellen Auswertung am 29.04.10\nHerr Krüger\, HORBACH-Wirtschaftsberatung\nAnmeldung unter Chemnitz.Hochschulteam@arbeitsagentur.de\, Tel. 0371/567-2240
ORGANIZER:MAILTO:evelin.haeusler@verwaltung.tu-chemnitz.de
UID:12206@www.tu-chemnitz.de
CREATED:20100329T083100Z
DTSTAMP:20210802T193315Z
END:VEVENT
END:VCALENDAR
