BEGIN:VCALENDAR
VERSION:2.0
PRODID:TU Chemnitz
METHOD:PUBLISH
X-WR-CALNAME:Veranstaltungen der TU Chemnitz
X-WR-TIMEZONE:Europe/Berlin
BEGIN:VEVENT
CLASS:PUBLIC
DTSTART;TZID="Europe/Berlin":20100522T103000
DTEND;TZID="Europe/Berlin":20100522T170000
LOCATION:Str. der Nationen 62\, Chemnitz (Altes Heizhaus)
SUMMARY:A_plus_Romanistik (Philosophische Fakultät\, Romanische Kulturwissenschaft)
DESCRIPTION:Feierliche Verabschiedung der Romanistinnen & Romanisten der TU Chemnitz\nAndrea Vasas-Fikri <andrea.vasas-fikri@hrz.tu-chemnitz.de>
ORGANIZER:MAILTO:markus.tuempel@s2004.tu-chemnitz.de
UID:12200@www.tu-chemnitz.de
CREATED:20100326T120200Z
DTSTAMP:20210802T193224Z
END:VEVENT
END:VCALENDAR
