BEGIN:VCALENDAR
VERSION:2.0
PRODID:TU Chemnitz
METHOD:PUBLISH
X-WR-CALNAME:Veranstaltungen der TU Chemnitz
X-WR-TIMEZONE:Europe/Berlin
BEGIN:VEVENT
CLASS:PUBLIC
DTSTART;TZID="Europe/Berlin":20100421T153000
DTEND;TZID="Europe/Berlin":20100421T170000
LOCATION:Str. der Nationen 62\, Chemnitz (Böttcher-Bau)
SUMMARY:Informatik-Kolloquium (Fakultät für Informatik\, Professur Theoretische Informatik und Informationssicherheit)
DESCRIPTION:Vortrag zum Thema "Gitter Pfade bei periodischen Boundaries"\nPD Dr. Ulrich Tamm\, Marmara University Istanbul\nhttp://www.tu-chemnitz.de/informatik/fakultaet/dekanat.php
ORGANIZER:MAILTO:ulrike.luthe@informatik.tu-chemnitz.de
UID:12196@www.tu-chemnitz.de
CREATED:20100325T133900Z
DTSTAMP:20210802T193318Z
END:VEVENT
END:VCALENDAR
