BEGIN:VCALENDAR
VERSION:2.0
PRODID:TU Chemnitz
METHOD:PUBLISH
X-WR-CALNAME:Veranstaltungen der TU Chemnitz
X-WR-TIMEZONE:Europe/Berlin
BEGIN:VEVENT
CLASS:PUBLIC
DTSTART;TZID="Europe/Berlin":20100518T153000
DTEND;TZID="Europe/Berlin":20100518T173000
LOCATION:Thüringer Weg 3\, Zwergencampus
SUMMARY:Kreativnachmittag "Was möchte ich einmal werden?" (TU Chemnitz\, Projekt Familiengerechte Hochschule)
DESCRIPTION:Für Kinder bis 6 Jahre.\nChristin Jastrow\nDr. Renate Wißuwa\, Tel. 531 31221\, renate.wissuwa@verwaltung.tu-chemnitz.de
ORGANIZER:MAILTO:renate.wissuwa@verwaltung.tu-chemnitz.de
UID:12189@www.tu-chemnitz.de
CREATED:20100325T125900Z
DTSTAMP:20210802T193233Z
END:VEVENT
END:VCALENDAR
