BEGIN:VCALENDAR
VERSION:2.0
PRODID:TU Chemnitz
METHOD:PUBLISH
X-WR-CALNAME:Veranstaltungen der TU Chemnitz
X-WR-TIMEZONE:Europe/Berlin
BEGIN:VEVENT
CLASS:PUBLIC
DTSTART;TZID="Europe/Berlin":20100421T080000
DTEND;TZID="Europe/Berlin":20100422T120000
LOCATION:Reichenhainer Str. 70\, Chemnitz (Rühlmann-Bau)
SUMMARY:Kurs: "Tabellenkalkulation mit Office-Programmen" (Universitätsrechenzentrum)
DESCRIPTION:Dieser Kurs vermittelt Ihnen Grundlagen der Tabellenkalkulation und stellt Ihnen die Tabellenkalkulationsprogramme OpenOffice.org Calc und Microsoft Excel vor.\nDipl.-Phys. Edwin Wegener\nAnmeldung online oder im Nutzerservice
ORGANIZER:MAILTO:rosita.pudlat@hrz.tu-chemnitz.de
UID:12187@www.tu-chemnitz.de
CREATED:20100324T141700Z
DTSTAMP:20210802T193319Z
END:VEVENT
END:VCALENDAR
