BEGIN:VCALENDAR
VERSION:2.0
PRODID:TU Chemnitz
METHOD:PUBLISH
X-WR-CALNAME:Veranstaltungen der TU Chemnitz
X-WR-TIMEZONE:Europe/Berlin
BEGIN:VEVENT
CLASS:PUBLIC
DTSTART;TZID="Europe/Berlin":20100513T100000
DTEND;TZID="Europe/Berlin":20100513T180000
LOCATION:Reichenhainer Str. 55\, Chemnitz (Mensa)
SUMMARY:Biergarten an der Mensa (Studentenwerk Chemnitz-Zwickau )
DESCRIPTION:Zum Männertag hat der Biergarten an der Mensa geöffnet und lädt Groß und Klein zu Spiel\, Spaß und entspannter Unterhaltung ein.\nTel. 0371 5628-170\, info@swcz.de
ORGANIZER:MAILTO:stephanie.kraemer@verwaltung.tu-chemnitz.de
UID:12184@www.tu-chemnitz.de
CREATED:20100323T160200Z
DTSTAMP:20210802T193230Z
END:VEVENT
END:VCALENDAR
