BEGIN:VCALENDAR
VERSION:2.0
PRODID:TU Chemnitz
METHOD:PUBLISH
X-WR-CALNAME:Veranstaltungen der TU Chemnitz
X-WR-TIMEZONE:Europe/Berlin
BEGIN:VEVENT
CLASS:PUBLIC
DTSTART;TZID="Europe/Berlin":20100415T200000
DTEND;TZID="Europe/Berlin":20100415T230000
LOCATION:Reichenhainer Str. 55\, Chemnitz (Mensa)
SUMMARY:FEINKOST - Kleinkunst am Campus: KLEINES WELTTHEATER CHEMNITZ "Nur nicht weich werden - ein Brecht-Abend"  (KleinKunstTheater FATA MORGANA und Studentenwerk Chemnitz-Zwickau )
DESCRIPTION:Tickets: 10 EUR/ ermäßigt 5 EUR\, Einlass ab 19:00 Uhr\, Kartenreservierung: Studentenwerk Chemnitz-Zwickau (Infopunkt)\, Thüringer Weg 3\, Foyer\, 09126 Chemnitz\nmit Renate Hundertmark\, Sabine Kühnrich und Ludwig Streng \nTel. 0371 5628-170\, info@swcz.de
ORGANIZER:MAILTO:stephanie.kraemer@verwaltung.tu-chemnitz.de
UID:12181@www.tu-chemnitz.de
CREATED:20100323T155300Z
DTSTAMP:20210802T193319Z
END:VEVENT
END:VCALENDAR
