BEGIN:VCALENDAR
VERSION:2.0
PRODID:TU Chemnitz
METHOD:PUBLISH
X-WR-CALNAME:Veranstaltungen der TU Chemnitz
X-WR-TIMEZONE:Europe/Berlin
BEGIN:VEVENT
CLASS:PUBLIC
DTSTART;TZID="Europe/Berlin":20100407T190000
DTEND;TZID="Europe/Berlin":20100407T200000
LOCATION:Ev. Jugendkirche St. Johannis (im Zentrum zwischen Zschopauer Straße und Augustusburger Straße)
SUMMARY:Semesteranfangsgottesdienst (SMD Chemnitz\, ESG\, KSG)
DESCRIPTION:Zum Sommersemesterstart 2010 wird es wieder einen Semesteranfangsgottesdienst geben! Predigen wird der Sächsische Landesjugendpfarrer Tobias Bilz! Danach ist noch Zeit zum Quatschen und gemeinsamen Schlemmen am "Belegte-Brötchen-Buffett" :)\nInfos bekommt ihr auf den Internetseiten der SMD\, ESG und KSG
ORGANIZER:MAILTO:carmen.schulz@verwaltung.tu-chemnitz.de
UID:12176@www.tu-chemnitz.de
CREATED:20100318T211400Z
DTSTAMP:20210802T193312Z
END:VEVENT
END:VCALENDAR
