BEGIN:VCALENDAR
VERSION:2.0
PRODID:TU Chemnitz
METHOD:PUBLISH
X-WR-CALNAME:Veranstaltungen der TU Chemnitz
X-WR-TIMEZONE:Europe/Berlin
BEGIN:VEVENT
CLASS:PUBLIC
DTSTART;TZID="Europe/Berlin":20000621T200000
DTEND;TZID="Europe/Berlin":20000621T200000
LOCATION:Uni-Teil 3: Sportplatz\, Chemnitz
SUMMARY:CampusFilmNächte 2000 - Film: Trainspotting (Filmclub "mittendrin" & PEB)
DESCRIPTION:Schlechtwettervariante: Hörsaal C104\nmittendrin@tu-chemnitz.de
ORGANIZER:MAILTO:sul@hrz.tu-chemnitz.de
UID:1217@www.tu-chemnitz.de
CREATED:20000620T142000Z
DTSTAMP:20210802T202948Z
END:VEVENT
END:VCALENDAR
