BEGIN:VCALENDAR
VERSION:2.0
PRODID:TU Chemnitz
METHOD:PUBLISH
X-WR-CALNAME:Veranstaltungen der TU Chemnitz
X-WR-TIMEZONE:Europe/Berlin
BEGIN:VEVENT
CLASS:PUBLIC
DTSTART;TZID="Europe/Berlin":20100317T210000
DTEND;TZID="Europe/Berlin":20100318T030000
LOCATION:Reichenhainer Str. 35/37\, Chemnitz (Studentenwohnheim)
SUMMARY:[PEB] Karaoke
DESCRIPTION:Karaoke at PEB-Studentenkeller geht in die nächste Rund. Also ölt die Stimmbändern und ran ans Mikro. Für mutige Sänger\, gibt es wie immer eine kleine Belohnung!\nhttp://www.tu-chemnitz.de/stud/club/peb/web/
ORGANIZER:MAILTO:stefanie.fischer@s2003.tu-chemnitz.de
UID:12163@www.tu-chemnitz.de
CREATED:20100315T140100Z
DTSTAMP:20210802T193328Z
END:VEVENT
END:VCALENDAR
