BEGIN:VCALENDAR
VERSION:2.0
PRODID:TU Chemnitz
METHOD:PUBLISH
X-WR-CALNAME:Veranstaltungen der TU Chemnitz
X-WR-TIMEZONE:Europe/Berlin
BEGIN:VEVENT
CLASS:PUBLIC
DTSTART;TZID="Europe/Berlin":20000620T200000
DTEND;TZID="Europe/Berlin":20000620T200000
LOCATION:Uni-Teil 3: Sportplatz\, Chemnitz
SUMMARY:CampusFilmNächte 2000 - Film: Bandits (Filmclub der TU Chemnitz & PEB)
DESCRIPTION:ab 20.00 Uhr Cocktails (PEB-Club) & mehr. \nFilm "Bandits" mit Einbruch der Dunkelheit - Schlechtwettervariante: Hörsaal C104 \n\nmittendrin@tu-chemnitz.de
ORGANIZER:MAILTO:sul@hrz.tu-chemnitz.de
UID:1216@www.tu-chemnitz.de
CREATED:20000620T141800Z
DTSTAMP:20210802T202943Z
END:VEVENT
END:VCALENDAR
