BEGIN:VCALENDAR
VERSION:2.0
PRODID:TU Chemnitz
METHOD:PUBLISH
X-WR-CALNAME:Veranstaltungen der TU Chemnitz
X-WR-TIMEZONE:Europe/Berlin
BEGIN:VEVENT
CLASS:PUBLIC
DTSTART;TZID="Europe/Berlin":20100413T130000
DTEND;TZID="Europe/Berlin":20100413T140000
LOCATION:Pegasus-Center\, Chemnitz
SUMMARY:Bibliotheksführung (Universitätsbibliothek)
DESCRIPTION:Wir führen Sie durch die Bibliothek und geben erste Starthilfe beim Umgang mit den Katalogen und weiteren Recherchemöglichkeiten.\nkeine Anmeldung nötig
ORGANIZER:MAILTO:ina.potts@bibliothek.tu-chemnitz.de
UID:12158@www.tu-chemnitz.de
CREATED:20100311T143300Z
DTSTAMP:20210802T193316Z
END:VEVENT
END:VCALENDAR
