BEGIN:VCALENDAR
VERSION:2.0
PRODID:TU Chemnitz
METHOD:PUBLISH
X-WR-CALNAME:Veranstaltungen der TU Chemnitz
X-WR-TIMEZONE:Europe/Berlin
BEGIN:VEVENT
CLASS:PUBLIC
DTSTART;TZID="Europe/Berlin":20100313T193000
DTEND;TZID="Europe/Berlin":20100313T213000
LOCATION:Hartmann Halle Chemnitz
SUMMARY:Heimspiel BV Chemnitz 99 (BV Chemnitz 99)
DESCRIPTION:kontakt@chemnitz99.de
ORGANIZER:MAILTO:stephanie.kraemer@verwaltung.tu-chemnitz.de
UID:12154@www.tu-chemnitz.de
CREATED:20100311T081900Z
DTSTAMP:20210802T193329Z
END:VEVENT
END:VCALENDAR
