BEGIN:VCALENDAR
VERSION:2.0
PRODID:TU Chemnitz
METHOD:PUBLISH
X-WR-CALNAME:Veranstaltungen der TU Chemnitz
X-WR-TIMEZONE:Europe/Berlin
BEGIN:VEVENT
CLASS:PUBLIC
DTSTART;TZID="Europe/Berlin":20100505T090000
DTEND;TZID="Europe/Berlin":20100505T170000
LOCATION:Reichenhainer Str. 90\, Chemnitz (Zentr. Hörsaal- und Seminargebäude)
SUMMARY:8. Chemnitzer Symposium "Europa und Umwelt" zum Thema "Nachhaltiger Verkehr in Europa" (Fakultät für Wirtschaftswissenschaften\, Professur Wirtschaftspolitik)
DESCRIPTION:Neben dem Aufzeigen von Zukunftsperspektiven eines an Nachhaltigkeit orientierten Verkehrssektors soll auch die richtige Gestaltung von Anreizsystemen sowie die Steigerung der Energieeffizienz diskutiert werden.\nProf. Dr. Klaus D. John (Professur für Wirtschaftspolitik\, TU Chemnitz)\, u.a.\nMarlene Richter\, marlene.richter@wirtschaft.tu-chemnitz.de
ORGANIZER:MAILTO:melanie.lang@s2007.tu-chemnitz.de
UID:12153@www.tu-chemnitz.de
CREATED:20100310T172900Z
DTSTAMP:20210802T193227Z
END:VEVENT
END:VCALENDAR
