BEGIN:VCALENDAR
VERSION:2.0
PRODID:TU Chemnitz
METHOD:PUBLISH
X-WR-CALNAME:Veranstaltungen der TU Chemnitz
X-WR-TIMEZONE:Europe/Berlin
BEGIN:VEVENT
CLASS:PUBLIC
DTSTART;TZID="Europe/Berlin":20100429T160000
DTEND;TZID="Europe/Berlin":20100429T173000
LOCATION:Reichenhainer Str. 70\, Chemnitz (Rühlmann-Bau)
SUMMARY:Chemnitzer Mathematisches Colloquium (Fakultät für Mathematik)
DESCRIPTION:Prof. Dr. Karl Strambach\, Universität Erlangen-Nürnberg\nThema:"Imprimitive Transformationsgruppen"
ORGANIZER:MAILTO:margit.matt@mathematik.tu-chemnitz.de
UID:12152@www.tu-chemnitz.de
CREATED:20100305T081200Z
DTSTAMP:20210802T193312Z
END:VEVENT
END:VCALENDAR
