BEGIN:VCALENDAR
VERSION:2.0
PRODID:TU Chemnitz
METHOD:PUBLISH
X-WR-CALNAME:Veranstaltungen der TU Chemnitz
X-WR-TIMEZONE:Europe/Berlin
BEGIN:VEVENT
CLASS:PUBLIC
DTSTART;TZID="Europe/Berlin":20100323T210000
DTEND;TZID="Europe/Berlin":20100323T230000
LOCATION:Kino\, Reichenhainer Str. 35/37\, Keller
SUMMARY:[Campuskino * "mittendrin"] Same Same But Different (filmclub »mittendrin«)
DESCRIPTION:Der junge Touri und das Aids-kranke Bärmädchen: es ist Liebe\, die alles triumphiert. Berührendes autobiographisches Drama von Detelv Buck.\nfilmclub@tu-chemnitz.de
ORGANIZER:MAILTO:robert.gerstenberger@s2004.tu-chemnitz.de
UID:12147@www.tu-chemnitz.de
CREATED:20100301T230300Z
DTSTAMP:20210802T193326Z
END:VEVENT
END:VCALENDAR
