BEGIN:VCALENDAR
VERSION:2.0
PRODID:TU Chemnitz
METHOD:PUBLISH
X-WR-CALNAME:Veranstaltungen der TU Chemnitz
X-WR-TIMEZONE:Europe/Berlin
BEGIN:VEVENT
CLASS:PUBLIC
DTSTART;TZID="Europe/Berlin":20000628T213000
DTEND;TZID="Europe/Berlin":20000628T213000
LOCATION:Uni-Teil 3: Vettersstr. 70/72\, Chemnitz (Studentenwohnheim)
SUMMARY:Konzert: Schlagsaite (Studentenclub bspw)
DESCRIPTION:Konzert der Chemnitzer Rockband Schlagsaite.\nDer Eintritt ist frei\, die Musik ist laut.<br>\nEinlass ab 21:00 Uhr\nbspw@tu-chemnitz.de
ORGANIZER:MAILTO:voj@hrz.tu-chemnitz.de
UID:1213@www.tu-chemnitz.de
CREATED:20000618T231600Z
DTSTAMP:20210802T202936Z
END:VEVENT
END:VCALENDAR
