BEGIN:VCALENDAR
VERSION:2.0
PRODID:TU Chemnitz
METHOD:PUBLISH
X-WR-CALNAME:Veranstaltungen der TU Chemnitz
X-WR-TIMEZONE:Europe/Berlin
BEGIN:VEVENT
CLASS:PUBLIC
DTSTART;TZID="Europe/Berlin":20000628T151500
DTEND;TZID="Europe/Berlin":20000628T164500
LOCATION:Uni-Teil 3: Reichenhainer Str. 70\, Chemnitz (Zentr. Hörsaal- und Seminargebäude)
SUMMARY:Wissen\, Information\, Interpretation. Philosophische Probleme kognitiver Arbeitsteilung (Philosophische Fakultät\, Fachgebiet Philosophie)
DESCRIPTION:Gastvorlesung\nProf. Dr. Rainer Enskat (Halle)
ORGANIZER:MAILTO:voj@hrz.tu-chemnitz.de
UID:1211@www.tu-chemnitz.de
CREATED:20000617T170700Z
DTSTAMP:20210802T202944Z
END:VEVENT
END:VCALENDAR
