BEGIN:VCALENDAR
VERSION:2.0
PRODID:TU Chemnitz
METHOD:PUBLISH
X-WR-CALNAME:Veranstaltungen der TU Chemnitz
X-WR-TIMEZONE:Europe/Berlin
BEGIN:VEVENT
CLASS:PUBLIC
DTSTART;TZID="Europe/Berlin":20100225T210000
DTEND;TZID="Europe/Berlin":20100225T230000
LOCATION:Kino\, Reichenhainer Str. 35/37\, Keller
SUMMARY:[Campuskino * "mittendrin"] Das Kabinett des Dr. Parnassus (filmclub »mittendrin«)
DESCRIPTION:Drei Joker für Heath Ledger. Ein abgedrehter Mächenfilm mit einer ungewöhnlichen Lösung für den Verstorbenen. Raum und Zeit\, Budenzauber und echte Magie verbinden sich zu einem großen Märchen.\nfilmclub@tu-chemnitz.de
ORGANIZER:MAILTO:robert.gerstenberger@s2004.tu-chemnitz.de
UID:12108@www.tu-chemnitz.de
CREATED:20100208T175700Z
DTSTAMP:20210802T193345Z
END:VEVENT
END:VCALENDAR
