BEGIN:VCALENDAR
VERSION:2.0
PRODID:TU Chemnitz
METHOD:PUBLISH
X-WR-CALNAME:Veranstaltungen der TU Chemnitz
X-WR-TIMEZONE:Europe/Berlin
BEGIN:VEVENT
CLASS:PUBLIC
DTSTART;TZID="Europe/Berlin":20100218T100000
DTEND;TZID="Europe/Berlin":20100218T140000
LOCATION:Berufsinformationszentrum (BiZ)\, Budapester Str. 30\, 01069 Dresden
SUMMARY:Arbeiten in Europa (Agentur für Arbeit Dresden\, Auslandsvermittlung)
DESCRIPTION:Der Europatag ist die Gelegenheit für Interessierten\, sich zum "Arbeiten in Europa" zu informieren und erste Kontakte mit Arbeitgebern zu knüpfen. Joe Bennett steht für Sie zu Fragen zum britischen Arbeitsmarkt sowie zur Stellensuche zur Verfügung.\nMr. Joe Bennett\, britischer EURES-Berater\nzav-dresden-auslandsvermittlung@arbeitsagentur.de
ORGANIZER:MAILTO:annett.mueller@verwaltung.tu-chemnitz.de
UID:12102@www.tu-chemnitz.de
CREATED:20100208T163500Z
DTSTAMP:20210802T193342Z
END:VEVENT
END:VCALENDAR
